BEGIN:VCALENDAR
VERSION:2.0
PRODID:-//https://ischiaeventi.com///NONSGML kigkonsult.se iCalcreator 2.10.15//
METHOD:PUBLISH
BEGIN:VEVENT
UID:20260423T100610UTC-9030JwcnAa@https://ischiaeventi.com/
DTSTAMP:20260423T100610Z
DESCRIPTION:Natale a Ischia: Mario Biondi https://ischiaeventi.com/en/event
 s/cultura/conferences/event/35837-natale-a-ischia-mario-biondi
DTSTART:20241228T200000Z
DTEND:20241228T220000Z
LOCATION:Piazza degli Eroi (Piazza Degli Eroi\, 80077 Ischia NA\, Italia)
SUMMARY:Natale a Ischia: Mario Biondi
URL:https://ischiaeventi.com/en/events/cultura/conferences/event/35837-nata
 le-a-ischia-mario-biondi
END:VEVENT
END:VCALENDAR
