BEGIN:VCALENDAR
VERSION:2.0
PRODID:-//https://ischiaeventi.com///NONSGML kigkonsult.se iCalcreator 2.10.15//
METHOD:PUBLISH
BEGIN:VEVENT
UID:20260423T103231UTC-3353wXlbKV@https://ischiaeventi.com/
DTSTAMP:20260423T103231Z
DESCRIPTION:Presepi in Cammino percorsi presepiali\, artigianali e artistic
 i\, chiese e boutique https://ischiaeventi.com/en/events/cultura/conferenc
 es/event/38235-lacco-ameno-in-canti-di-natale-presepi-in-cammino
DTSTART;VALUE=DATE:20250108
LOCATION:Lacco Ameno (Piazza Santa Restituta\, 80076 Lacco Ameno NA\, Itali
 a)
SUMMARY:Lacco Ameno In-canti di Natale: presepi in cammino
URL:https://ischiaeventi.com/en/events/cultura/conferences/event/38235-lacc
 o-ameno-in-canti-di-natale-presepi-in-cammino
END:VEVENT
END:VCALENDAR
