BEGIN:VCALENDAR
VERSION:2.0
PRODID:-//https://ischiaeventi.com///NONSGML kigkonsult.se iCalcreator 2.10.15//
METHOD:PUBLISH
BEGIN:VEVENT
UID:20260423T102539UTC-8117NuVeVj@https://ischiaeventi.com/
DTSTAMP:20260423T102539Z
DESCRIPTION:Mostra Veranica Acunto\nIngresso Libero\n&nbsp\; https://ischia
 eventi.com/en/events/cultura/conferences/event/68485-mostra-veronica-acunt
 o
DTSTART:20250515T173000Z
DTEND:20250515T190000Z
LOCATION:Villa Arbusto museum (Corso Angelo Rizzoli\, 194\, 80076 Lacco Ame
 no NA\, Italia)
SUMMARY:Mostra Veronica Acunto
URL:https://ischiaeventi.com/en/events/cultura/conferences/event/68485-most
 ra-veronica-acunto
END:VEVENT
END:VCALENDAR
