BEGIN:VCALENDAR
VERSION:2.0
PRODID:-//https://ischiaeventi.com///NONSGML kigkonsult.se iCalcreator 2.10.15//
METHOD:PUBLISH
BEGIN:VEVENT
UID:20260420T143349UTC-6960OkRvUi@https://ischiaeventi.com/
DTSTAMP:20260420T143349Z
DESCRIPTION:MANIFESTAZIONE CULTURALE DI APPRODI D'AUTORE XXI EDIZIONE GRAUS
  EDITORE https://ischiaeventi.com/en/events/cultura/debates-and-cultural-m
 eetings/event/103197-estate-forio-2025-manifestazione-culturale-di-approdi
 -dautore-xxi-edizione
DTSTART:20250712T170000Z
DTEND:20250712T215900Z
LOCATION:Piazzale del Soccorso (Via del Soccorso\, 6\, 80075 Forio NA\, Ita
 lia)
SUMMARY:ESTATE FORIO 2025: MANIFESTAZIONE CULTURALE DI APPRODI D'AUTORE XXI
  EDIZIONE
URL:https://ischiaeventi.com/en/events/cultura/debates-and-cultural-meeting
 s/event/103197-estate-forio-2025-manifestazione-culturale-di-approdi-dauto
 re-xxi-edizione
END:VEVENT
END:VCALENDAR
