BEGIN:VCALENDAR
VERSION:2.0
PRODID:-//https://ischiaeventi.com///NONSGML kigkonsult.se iCalcreator 2.10.15//
METHOD:PUBLISH
BEGIN:VEVENT
UID:20260420T143137UTC-8634dZurOt@https://ischiaeventi.com/
DTSTAMP:20260420T143137Z
DESCRIPTION:\n\nSABATO 30 ORE 20.30 - PANZASAGRA DELLA PARMIGIANA\n&nbsp\;
 \n\n\n https://ischiaeventi.com/en/events/cultura/debates-and-cultural-mee
 tings/event/124252-estate-forio-2025-sagra-della-parmigiana
DTSTART:20250830T183000Z
DTEND:20250830T215900Z
LOCATION:Panza (Piazza San Leonardo - 80075 Panza Forio)
SUMMARY:Estate Forio 2025: SAGRA DELLA PARMIGIANA
URL:https://ischiaeventi.com/en/events/cultura/debates-and-cultural-meeting
 s/event/124252-estate-forio-2025-sagra-della-parmigiana
END:VEVENT
END:VCALENDAR
