BEGIN:VCALENDAR
VERSION:2.0
PRODID:-//https://ischiaeventi.com///NONSGML kigkonsult.se iCalcreator 2.10.15//
METHOD:PUBLISH
BEGIN:VEVENT
UID:20260420T142449UTC-6788u3FG8H@https://ischiaeventi.com/
DTSTAMP:20260420T142449Z
DESCRIPTION:Appuntamento per i bambini con Ludobus verranno allestite 25 po
 stazioni giochi in legno\, per una sera tutto lontano dal tablet. Ci vedia
 mo a piazza Santa Restituta evento organizzato dal comune di Lacco Ameno. 
 https://ischiaeventi.com/en/events/cultura/debates-and-cultural-meetings/e
 vent/163031-spettacolo-per-bambini
DTSTART:20250912T170000Z
DTEND:20250912T205500Z
LOCATION:Piazza S. Restituta (Piazza Santa Restituta\, 80076 Lacco Ameno NA
 \, Italia)
SUMMARY:Spettacolo per bambini
URL:https://ischiaeventi.com/en/events/cultura/debates-and-cultural-meeting
 s/event/163031-spettacolo-per-bambini
END:VEVENT
END:VCALENDAR
