BEGIN:VCALENDAR
VERSION:2.0
PRODID:-//https://ischiaeventi.com///NONSGML kigkonsult.se iCalcreator 2.10.15//
METHOD:PUBLISH
BEGIN:VEVENT
UID:20260422T123452UTC-5959I11jMV@https://ischiaeventi.com/
DTSTAMP:20260422T123452Z
DESCRIPTION:'The Village Christmas' organized by the Gertrud Streicher Asso
 ciation https://ischiaeventi.com/en/events/cultura/debates-and-cultural-me
 etings/event/249207-christmas-in-serrara-the-village-christmas
DTSTART:20251214T140000Z
DTEND:20251214T170000Z
LOCATION:Succhivo (Provinciale Succhivo Sant'Angelo\, 21-27\, 80070 Sant'An
 gelo NA\, Italy)
SUMMARY:Christmas in Serrara: 'The Village Christmas'
URL:https://ischiaeventi.com/en/events/cultura/debates-and-cultural-meeting
 s/event/249207-christmas-in-serrara-the-village-christmas
END:VEVENT
END:VCALENDAR
