BEGIN:VCALENDAR
VERSION:2.0
PRODID:-//https://ischiaeventi.com///NONSGML kigkonsult.se iCalcreator 2.10.15//
METHOD:PUBLISH
BEGIN:VEVENT
UID:20260420T143349UTC-9071JZIpjh@https://ischiaeventi.com/
DTSTAMP:20260420T143349Z
DESCRIPTION:A brilliant show\, full of irony and comedy\, perfect for enjoy
 ing the magic of Christmas together—even at the theatre.Wednesday\, 17 Dec
 ember 20258:00 PMMiddle School Auditorium – Panza\nDon’t miss this special
  event at Panza Christmas Village https://ischiaeventi.com/en/events/cultu
 ra/debates-and-cultural-meetings/event/249360-christmas-in-forio-2025-a-ni
 ght-of-great-theatre-at-panza-christmas-village
DTSTART:20251217T190000Z
DTEND:20251217T221600Z
LOCATION:Auditorium Scuole Medie – Panza (80075\, Forio\, Campania)
SUMMARY:Christmas in Forio 2025:  A Night of Great Theatre at Panza Christm
 as Village
URL:https://ischiaeventi.com/en/events/cultura/debates-and-cultural-meeting
 s/event/249360-christmas-in-forio-2025-a-night-of-great-theatre-at-panza-c
 hristmas-village
END:VEVENT
END:VCALENDAR
