BEGIN:VCALENDAR
VERSION:2.0
PRODID:-//https://ischiaeventi.com///NONSGML kigkonsult.se iCalcreator 2.10.15//
METHOD:PUBLISH
BEGIN:VEVENT
UID:20260420T142440UTC-7222aMrxcB@https://ischiaeventi.com/
DTSTAMP:20260420T142440Z
DESCRIPTION:Forio si accende di emozioni\, musicae stile\, la magia dell'ul
 tima notte dell'anno! https://ischiaeventi.com/en/events/cultura/debates-a
 nd-cultural-meetings/event/249391-capodanno-a-forio
DTSTART:20251231T223000Z
DTEND:20260101T022300Z
LOCATION:Comune di Forio (Piazza Municipio\, 1\, 80075 Forio NA\, Italia)
SUMMARY:Capodanno a Forio
URL:https://ischiaeventi.com/en/events/cultura/debates-and-cultural-meeting
 s/event/249391-capodanno-a-forio
END:VEVENT
END:VCALENDAR
