BEGIN:VCALENDAR
VERSION:2.0
PRODID:-//https://ischiaeventi.com///NONSGML kigkonsult.se iCalcreator 2.10.15//
METHOD:PUBLISH
BEGIN:VEVENT
UID:20260420T130617UTC-5643fFakfu@https://ischiaeventi.com/
DTSTAMP:20260420T130617Z
DESCRIPTION:Luce per la pace: 'I Solisti del Buchner'Directed by Prof. Lean
 dro NicolellaMusical Review&nbsp\;Light for Peace https://ischiaeventi.com
 /en/events/cultura/debates-and-cultural-meetings/event/249438-luce-per-la-
 pace-i-solisti-del-buchner
DTSTART:20260421T170000Z
DTEND:20260421T190000Z
LOCATION:Santa Maria delle Grazie in San Pietro (Corso Vittoria Colonna\, 1
 91\, 80077 Ischia NA\, Italia)
SUMMARY:Luce per la pace: 'I Solisti del Buchner'
URL:https://ischiaeventi.com/en/events/cultura/debates-and-cultural-meeting
 s/event/249438-luce-per-la-pace-i-solisti-del-buchner
END:VEVENT
END:VCALENDAR
