BEGIN:VCALENDAR
VERSION:2.0
PRODID:-//https://ischiaeventi.com///NONSGML kigkonsult.se iCalcreator 2.10.15//
METHOD:PUBLISH
BEGIN:VEVENT
UID:20260420T140219UTC-6550ufxx12@https://ischiaeventi.com/
DTSTAMP:20260420T140219Z
DESCRIPTION:Dominus Production presents “Sacred Heart: His Kingdom Will Nev
 er End”\,a film by Sabrina Gunnell and Steven J. Gunnell\nThursday\, March
  12at 6:30 PM and 8:30 PMat the Excelsior Cinema Theatre – Ischia https://
 ischiaeventi.com/en/events/cultura/debates-and-cultural-meetings/event/249
 592-il-suo-regno-non-avra-mai-fine-sacro-cuore
DTSTART:20260312T173000Z
DTEND:20260312T193000Z
LOCATION:Cinema Excelsior (Via Francesco Sogliuzzo\, 18\, 80077 Ischia NA\,
  Italia)
SUMMARY:IL SUO REGNO NON AVRÀ MAI FINE SACRO CUORE
URL:https://ischiaeventi.com/en/events/cultura/debates-and-cultural-meeting
 s/event/249592-il-suo-regno-non-avra-mai-fine-sacro-cuore
END:VEVENT
END:VCALENDAR
