BEGIN:VCALENDAR
VERSION:2.0
PRODID:-//https://ischiaeventi.com///NONSGML kigkonsult.se iCalcreator 2.10.15//
METHOD:PUBLISH
BEGIN:VEVENT
UID:20260420T154305UTC-5074797lUs@https://ischiaeventi.com/
DTSTAMP:20260420T154305Z
DESCRIPTION:THEATRE COMPANY ATTORI PER CASOPRESENTS: Duje Chiapparielle\nA 
 three-act comedy by Eduardo Scarpetta\nAttori Per Caso are happy to announ
 ce an encore performance after the great success.\nSUNDAY\, MARCH 15:30 PM
 \nMULTI-PURPOSE THEATRE HALL – ISCHIA https://ischiaeventi.com/en/events/c
 ultura/debates-and-cultural-meetings/event/249595-attori-per-caso-presents
 -duje-chiapparielle
DTSTART:20260301T163000Z
DTEND:20260301T190000Z
LOCATION:Sala Teatro Polifunzionale (Via Morgioni\, 80077 Ischia NA\, Itali
 a)
SUMMARY:ATTORI PER CASO PRESENTS: Duje Chiapparielle
URL:https://ischiaeventi.com/en/events/cultura/debates-and-cultural-meeting
 s/event/249595-attori-per-caso-presents-duje-chiapparielle
END:VEVENT
END:VCALENDAR
