BEGIN:VCALENDAR
VERSION:2.0
PRODID:-//https://ischiaeventi.com///NONSGML kigkonsult.se iCalcreator 2.10.15//
METHOD:PUBLISH
BEGIN:VEVENT
UID:20260420T140405UTC-8281lhPPej@https://ischiaeventi.com/
DTSTAMP:20260420T140405Z
DESCRIPTION:Veronica MatareseLA FORZA DI UNA MAMMA&nbsp\;\nApril 27\, 20265
 :00 PMCouncil Chamber of the Municipality of Forio\nWe look forward to see
 ing you! https://ischiaeventi.com/en/events/cultura/debates-and-cultural-m
 eetings/event/249896-book-presentation-la-forza-di-una-mamma
DTSTART:20260427T150000Z
DTEND:20260427T170000Z
LOCATION:Sala conferenze Porto di Forio (Via Cristoforo Colombo\, 1311\, 80
 075 Forio NA\, Italia)
SUMMARY:Book Presentation: LA FORZA DI UNA MAMMA
URL:https://ischiaeventi.com/en/events/cultura/debates-and-cultural-meeting
 s/event/249896-book-presentation-la-forza-di-una-mamma
END:VEVENT
END:VCALENDAR
