BEGIN:VCALENDAR
VERSION:2.0
PRODID:-//https://ischiaeventi.com///NONSGML kigkonsult.se iCalcreator 2.10.15//
METHOD:PUBLISH
BEGIN:VEVENT
UID:20260420T143010UTC-02064jFLM5@https://ischiaeventi.com/
DTSTAMP:20260420T143010Z
DESCRIPTION:Esposizione Iacono Mattera Waschimps https://ischiaeventi.com/e
 n/events/cultura/debates-and-cultural-meetings/event/28780-esposizione-iac
 ono-mattera-waschimps
DTSTART:20240413T160000Z
DTEND:20240413T180000Z
LOCATION:Villa Arbusto museum (Corso Angelo Rizzoli\, 194\, 80076 Lacco Ame
 no NA\, Italia)
SUMMARY:Esposizione Iacono Mattera Waschimps
URL:https://ischiaeventi.com/en/events/cultura/debates-and-cultural-meeting
 s/event/28780-esposizione-iacono-mattera-waschimps
END:VEVENT
END:VCALENDAR
