BEGIN:VCALENDAR
VERSION:2.0
PRODID:-//https://ischiaeventi.com///NONSGML kigkonsult.se iCalcreator 2.10.15//
METHOD:PUBLISH
BEGIN:VEVENT
UID:20260420T142644UTC-1075GRUdWz@https://ischiaeventi.com/
DTSTAMP:20260420T142644Z
DESCRIPTION:Con la primavera partono le Giornate ecologiche\, le strade pri
 ncipali saranno liberate dalle auto e affollate da bimbi che giocano\, bic
 iclette\, giochi e intrattenimento per tutti. La circolazione sarà deviata
  altrove per donare a tutti gli ischitani un paese senza vetture e senza p
 ericoli all’insegna dell’ecologia. https://ischiaeventi.com/en/events/cult
 ura/debates-and-cultural-meetings/event/29239-giornata-ecologica
DTSTART;VALUE=DATE:20240602
LOCATION:Forio d’Ischia (80075 Forio NA\, Italia)
SUMMARY:Giornata ecologica
URL:https://ischiaeventi.com/en/events/cultura/debates-and-cultural-meeting
 s/event/29239-giornata-ecologica
END:VEVENT
END:VCALENDAR
