BEGIN:VCALENDAR
VERSION:2.0
PRODID:-//https://ischiaeventi.com///NONSGML kigkonsult.se iCalcreator 2.10.15//
METHOD:PUBLISH
BEGIN:VEVENT
UID:20260420T142436UTC-3263vW81Bm@https://ischiaeventi.com/
DTSTAMP:20260420T142436Z
DESCRIPTION:Il coniglio all’ischitana è la ricetta più antica e identitaria
  per Ischia\, in questa serata vi faremo assaggiare come lo cucinano le no
 stre nonne e i nostri chef\, il tutto accompagnato dal nostro straordinari
 o vino locale e dai nostri canti popolari. https://ischiaeventi.com/en/eve
 nts/cultura/debates-and-cultural-meetings/event/29244-sagra-del-coniglio
DTSTART;VALUE=DATE:20240601
LOCATION:Forio d’Ischia (80075 Forio NA\, Italia)
SUMMARY:Sagra del Coniglio
URL:https://ischiaeventi.com/en/events/cultura/debates-and-cultural-meeting
 s/event/29244-sagra-del-coniglio
END:VEVENT
END:VCALENDAR
