BEGIN:VCALENDAR
VERSION:2.0
PRODID:-//https://ischiaeventi.com///NONSGML kigkonsult.se iCalcreator 2.10.15//
METHOD:PUBLISH
BEGIN:VEVENT
UID:20260420T201700UTC-6496MGWSet@https://ischiaeventi.com/
DTSTAMP:20260420T201700Z
DESCRIPTION:Torneo di Judo che coinvolgerà più di 500 atleLti provenienti d
 a tutta Italia https://ischiaeventi.com/en/events/cultura/debates-and-cult
 ural-meetings/event/29254-8-judo-summer-camp-memorial-adriana-serpico
DTSTART;VALUE=DATE:20240627
LOCATION:Forio d’Ischia (80075 Forio NA\, Italia)
SUMMARY:8° Judo summer camp memorial Adriana Serpico
URL:https://ischiaeventi.com/en/events/cultura/debates-and-cultural-meeting
 s/event/29254-8-judo-summer-camp-memorial-adriana-serpico
END:VEVENT
END:VCALENDAR
