BEGIN:VCALENDAR
VERSION:2.0
PRODID:-//https://ischiaeventi.com///NONSGML kigkonsult.se iCalcreator 2.10.15//
METHOD:PUBLISH
BEGIN:VEVENT
UID:20260420T142825UTC-2628o5eMr5@https://ischiaeventi.com/
DTSTAMP:20260420T142825Z
DESCRIPTION:Gigi D'Alessio Outdooor 2024 https://ischiaeventi.com/en/events
 /cultura/debates-and-cultural-meetings/event/29325-gigi-dalessio-outdoor-2
 024
DTSTART:20240727T190000Z
DTEND:20240727T213900Z
LOCATION:Parco Termale Negombo (Baia di S. Montano\, - 80076 Lacco Ameno NA
 \, Italia)
SUMMARY:Gigi D'Alessio Outdoor 2024
URL:https://ischiaeventi.com/en/events/cultura/debates-and-cultural-meeting
 s/event/29325-gigi-dalessio-outdoor-2024
END:VEVENT
END:VCALENDAR
