BEGIN:VCALENDAR
VERSION:2.0
PRODID:-//https://ischiaeventi.com///NONSGML kigkonsult.se iCalcreator 2.10.15//
METHOD:PUBLISH
BEGIN:VEVENT
UID:20260420T142450UTC-8126WVwAuX@https://ischiaeventi.com/
DTSTAMP:20260420T142450Z
DESCRIPTION:Solenne processione via mare https://ischiaeventi.com/en/events
 /cultura/debates-and-cultural-meetings/event/29723-solenne-processione-via
 -mare
DTSTART:20240517T163000Z
DTEND:20240517T180000Z
LOCATION:Marina di Lacco Ameno (Via Litoranea\, Lacco Ameno NA\, Italia)
SUMMARY:Solenne processione via mare
URL:https://ischiaeventi.com/en/events/cultura/debates-and-cultural-meeting
 s/event/29723-solenne-processione-via-mare
END:VEVENT
END:VCALENDAR
