BEGIN:VCALENDAR
VERSION:2.0
PRODID:-//https://ischiaeventi.com///NONSGML kigkonsult.se iCalcreator 2.10.15//
METHOD:PUBLISH
BEGIN:VEVENT
UID:20260420T143357UTC-5752SJUP9R@https://ischiaeventi.com/
DTSTAMP:20260420T143357Z
DESCRIPTION:ore 17:00-19:30 MASCOTTE BROS\, SCIVOLI\, TRAMPOLIERI\, GIOCOLI
 ERE E BALLERINI\nore 18:00-20:00 DJ BABY DANCEore 21:00 SPETTACOLO DI MAGI
 A https://ischiaeventi.com/en/events/cultura/debates-and-cultural-meetings
 /event/30756-calici-di-cultura-forio-baby-party
DTSTART:20240614T150000Z
DTEND:20240614T215900Z
LOCATION:Piazzale Cristoforo Colombo (Via Cristoforo Colombo\, 80075 Forio 
 NA\, Italia)
SUMMARY:Calici di cultura: Forio baby party
URL:https://ischiaeventi.com/en/events/cultura/debates-and-cultural-meeting
 s/event/30756-calici-di-cultura-forio-baby-party
END:VEVENT
END:VCALENDAR
