BEGIN:VCALENDAR
VERSION:2.0
PRODID:-//https://ischiaeventi.com///NONSGML kigkonsult.se iCalcreator 2.10.15//
METHOD:PUBLISH
BEGIN:VEVENT
UID:20260422T123229UTC-7872w1CS6I@https://ischiaeventi.com/
DTSTAMP:20260422T123229Z
DESCRIPTION:Anche quest' anno siamo pronti a regalarvi emozione uniche nell
 a meravigliosa Location di Cartaromana https://ischiaeventi.com/en/events/
 cultura/debates-and-cultural-meetings/event/30834-80voglia-di-ballare
DTSTART:20240703T190000Z
DTEND:20240703T213000Z
LOCATION:Torre di Michelangelo (Via Nuova Cartaromana\, 58\, 80077 Ischia N
 A\, Italy)
SUMMARY:80voglia di ballare
URL:https://ischiaeventi.com/en/events/cultura/debates-and-cultural-meeting
 s/event/30834-80voglia-di-ballare
END:VEVENT
END:VCALENDAR
