BEGIN:VCALENDAR
VERSION:2.0
PRODID:-//https://ischiaeventi.com///NONSGML kigkonsult.se iCalcreator 2.10.15//
METHOD:PUBLISH
BEGIN:VEVENT
UID:20260422T085329UTC-4845UkPhUS@https://ischiaeventi.com/
DTSTAMP:20260422T085329Z
DESCRIPTION:Summer Time Serrara: MUSICNIGHT CON DJ TONY ROMANO https://isch
 iaeventi.com/en/events/cultura/debates-and-cultural-meetings/event/31236-s
 ummer-time-serrara-musicnight-con-dj-tony-romano
DTSTART:20240725T190000Z
DTEND:20240725T215200Z
LOCATION:Borgo di Sant'Angelo (Via Nazario Sauro\, Sant'angelo NA\, Italia)
SUMMARY:Summer Time Serrara: MUSICNIGHT CON DJ TONY ROMANO
URL:https://ischiaeventi.com/en/events/cultura/debates-and-cultural-meeting
 s/event/31236-summer-time-serrara-musicnight-con-dj-tony-romano
END:VEVENT
END:VCALENDAR
