BEGIN:VCALENDAR
VERSION:2.0
PRODID:-//https://ischiaeventi.com///NONSGML kigkonsult.se iCalcreator 2.10.15//
METHOD:PUBLISH
BEGIN:VEVENT
UID:20260420T201505UTC-2879vILNMJ@https://ischiaeventi.com/
DTSTAMP:20260420T201505Z
DESCRIPTION:MUSICNIGHT CON DJ PAKINHO TIME https://ischiaeventi.com/en/even
 ts/cultura/debates-and-cultural-meetings/event/31241-summer-time-serrara-m
 usicnight-con-dj-pakinho-time
DTSTART:20240803T190000Z
DTEND:20240803T215200Z
LOCATION:Piazza Fontana (80070 Serrara Fontana NA\, Italia)
SUMMARY:Summer Time Serrara: MUSICNIGHT CON DJ PAKINHO TIME
URL:https://ischiaeventi.com/en/events/cultura/debates-and-cultural-meeting
 s/event/31241-summer-time-serrara-musicnight-con-dj-pakinho-time
END:VEVENT
END:VCALENDAR
