BEGIN:VCALENDAR
VERSION:2.0
PRODID:-//https://ischiaeventi.com///NONSGML kigkonsult.se iCalcreator 2.10.15//
METHOD:PUBLISH
BEGIN:VEVENT
UID:20260420T202110UTC-8967X8epLS@https://ischiaeventi.com/
DTSTAMP:20260420T202110Z
DESCRIPTION:&nbsp\;L'ARTE DI YAYOI KUSAMA. UN'ISOLA A POIS COLORATI ATTIVIT
 À LABORATORIALI PER BAMBINI A CURA DE IL MONDO DI ALICE https://ischiaeven
 ti.com/en/events/cultura/debates-and-cultural-meetings/event/31242-summer-
 time-serrara-larte-di-yayoi-kusama
DTSTART:20240807T170000Z
DTEND:20240807T190000Z
LOCATION:Sala Teatro Polifunzionale (Via Morgioni\, 80077 Ischia NA\, Itali
 a)
SUMMARY:Summer Time Serrara: L'ARTE DI YAYOI KUSAMA
URL:https://ischiaeventi.com/en/events/cultura/debates-and-cultural-meeting
 s/event/31242-summer-time-serrara-larte-di-yayoi-kusama
END:VEVENT
END:VCALENDAR
