BEGIN:VCALENDAR
VERSION:2.0
PRODID:-//https://ischiaeventi.com///NONSGML kigkonsult.se iCalcreator 2.10.15//
METHOD:PUBLISH
BEGIN:VEVENT
UID:20260420T201558UTC-6305hMpsav@https://ischiaeventi.com/
DTSTAMP:20260420T201558Z
DESCRIPTION:Summer Time Serrara: CABARET CON MASSIMO BURGADA E MUSICNIGHT C
 ON ANDY E FABER DJ https://ischiaeventi.com/en/events/cultura/debates-and-
 cultural-meetings/event/31247-summer-time-serrara-cabaret-con-massimo-burg
 ada-e-musicnight-con-andy-e-faber-dj
DTSTART:20240817T190000Z
DTEND:20240817T210000Z
LOCATION:Piazza Fontana (80070 Serrara Fontana NA\, Italia)
SUMMARY:Summer Time Serrara: CABARET CON MASSIMO BURGADA E MUSICNIGHT CON A
 NDY E FABER DJ
URL:https://ischiaeventi.com/en/events/cultura/debates-and-cultural-meeting
 s/event/31247-summer-time-serrara-cabaret-con-massimo-burgada-e-musicnight
 -con-andy-e-faber-dj
END:VEVENT
END:VCALENDAR
