BEGIN:VCALENDAR
VERSION:2.0
PRODID:-//https://ischiaeventi.com///NONSGML kigkonsult.se iCalcreator 2.10.15//
METHOD:PUBLISH
BEGIN:VEVENT
UID:20260422T091223UTC-9072DGi7ZO@https://ischiaeventi.com/
DTSTAMP:20260422T091223Z
DESCRIPTION:Summer Time Serrara: SAGRA DEL FAGOTTO A CURA DELLA PROLOCO SUC
 CHIVO https://ischiaeventi.com/en/events/cultura/debates-and-cultural-meet
 ings/event/31255-summer-time-serrara-sagra-del-fagotto-a-cura-della-proloc
 o-succhivo
DTSTART:20240907T190000Z
DTEND:20240907T210000Z
LOCATION:Succhivo (Provinciale Succhivo Sant'Angelo\, 21-27\, 80070 Sant'An
 gelo NA\, Italy)
SUMMARY:Summer Time Serrara: SAGRA DEL FAGOTTO A CURA DELLA PROLOCO SUCCHIV
 O
URL:https://ischiaeventi.com/en/events/cultura/debates-and-cultural-meeting
 s/event/31255-summer-time-serrara-sagra-del-fagotto-a-cura-della-proloco-s
 ucchivo
END:VEVENT
END:VCALENDAR
