BEGIN:VCALENDAR
VERSION:2.0
PRODID:-//https://ischiaeventi.com///NONSGML kigkonsult.se iCalcreator 2.10.15//
METHOD:PUBLISH
BEGIN:VEVENT
UID:20260422T091202UTC-4380uVXsD8@https://ischiaeventi.com/
DTSTAMP:20260422T091202Z
DESCRIPTION:Summer Time Serrara: FESTA DEL MATTONCINO A CURA DELL'ASSOCIAZI
 ONE LEGAMI EF https://ischiaeventi.com/en/events/cultura/debates-and-cultu
 ral-meetings/event/31256-summer-time-serrara-festa-del-mattoncino-a-cura-d
 ellassociazione-legami-ef
DTSTART:20240914T190000Z
DTEND:20240914T210000Z
LOCATION:Centro Polifunzionale di Fontana (Piazza Arturo Trofa - Serrara)
SUMMARY:Summer Time Serrara: FESTA DEL MATTONCINO A CURA DELL'ASSOCIAZIONE 
 LEGAMI EF
URL:https://ischiaeventi.com/en/events/cultura/debates-and-cultural-meeting
 s/event/31256-summer-time-serrara-festa-del-mattoncino-a-cura-dellassociaz
 ione-legami-ef
END:VEVENT
END:VCALENDAR
