BEGIN:VCALENDAR
VERSION:2.0
PRODID:-//https://ischiaeventi.com///NONSGML kigkonsult.se iCalcreator 2.10.15//
METHOD:PUBLISH
BEGIN:VEVENT
UID:20260420T154759UTC-8075CmWZRS@https://ischiaeventi.com/
DTSTAMP:20260420T154759Z
DESCRIPTION:Mostra Mattotti https://ischiaeventi.com/en/events/cultura/deba
 tes-and-cultural-meetings/event/31396-mostra-mattotti
DTSTART:20240719T173000Z
DTEND:20240719T210000Z
LOCATION:Villa Arbusto museum (Corso Angelo Rizzoli\, 194\, 80076 Lacco Ame
 no NA\, Italia)
SUMMARY:Mostra Mattotti
URL:https://ischiaeventi.com/en/events/cultura/debates-and-cultural-meeting
 s/event/31396-mostra-mattotti
END:VEVENT
END:VCALENDAR
