BEGIN:VCALENDAR
VERSION:2.0
PRODID:-//https://ischiaeventi.com///NONSGML kigkonsult.se iCalcreator 2.10.15//
METHOD:PUBLISH
BEGIN:VEVENT
UID:20260420T155244UTC-1656xH71lZ@https://ischiaeventi.com/
DTSTAMP:20260420T155244Z
DESCRIPTION:Incontri Mediterranei: Alma Partenopea https://ischiaeventi.com
 /en/events/cultura/debates-and-cultural-meetings/event/31482-incontri-medi
 terranei-alma-partenopea
DTSTART:20240823T193000Z
DTEND:20240823T213000Z
LOCATION:Piazza Santa Restituta  (Piazza Santa Restituta\, 80076 Lacco Amen
 o NA\, Italia)
SUMMARY:Incontri Mediterranei: Alma Partenopea
URL:https://ischiaeventi.com/en/events/cultura/debates-and-cultural-meeting
 s/event/31482-incontri-mediterranei-alma-partenopea
END:VEVENT
END:VCALENDAR
