BEGIN:VCALENDAR
VERSION:2.0
PRODID:-//https://ischiaeventi.com///NONSGML kigkonsult.se iCalcreator 2.10.15//
METHOD:PUBLISH
BEGIN:VEVENT
UID:20260420T144654UTC-5322uZKb3S@https://ischiaeventi.com/
DTSTAMP:20260420T144654Z
DESCRIPTION:Incontri di cultura su Vittorio De Sica https://ischiaeventi.co
 m/en/events/cultura/debates-and-cultural-meetings/event/31570-vittorio-de-
 sica-patrimonio-allitaliana
DTSTART:20240731T193000Z
DTEND:20240731T213000Z
LOCATION:Villa Arbusto museum (Corso Angelo Rizzoli\, 194\, 80076 Lacco Ame
 no NA\, Italia)
SUMMARY:Vittorio De Sica: patrimonio all'italiana
URL:https://ischiaeventi.com/en/events/cultura/debates-and-cultural-meeting
 s/event/31570-vittorio-de-sica-patrimonio-allitaliana
END:VEVENT
END:VCALENDAR
