BEGIN:VCALENDAR
VERSION:2.0
PRODID:-//https://ischiaeventi.com///NONSGML kigkonsult.se iCalcreator 2.10.15//
METHOD:PUBLISH
BEGIN:VEVENT
UID:20260420T142823UTC-1297itVGpx@https://ischiaeventi.com/
DTSTAMP:20260420T142823Z
DESCRIPTION:Il baritono Gaetano Maschio e la Compagnia Fantasynapoli nel co
 ncerto-spettacolo di musica tradizionale napoletana in occasione dei feste
 ggiamenti in onore della Madonna Assunta https://ischiaeventi.com/en/event
 s/cultura/debates-and-cultural-meetings/event/31655-e-state-insieme-a-lacc
 o-ameno-eternamente-napoli
DTSTART:20240814T200000Z
DTEND:20240814T212300Z
LOCATION:Piazza Rosario (Via Rosario\, 80076 Lacco Ameno NA\, Italia)
SUMMARY:E-state insieme a Lacco Ameno: ETERNAMENTE NAPOLI
URL:https://ischiaeventi.com/en/events/cultura/debates-and-cultural-meeting
 s/event/31655-e-state-insieme-a-lacco-ameno-eternamente-napoli
END:VEVENT
END:VCALENDAR
