BEGIN:VCALENDAR
VERSION:2.0
PRODID:-//https://ischiaeventi.com///NONSGML kigkonsult.se iCalcreator 2.10.15//
METHOD:PUBLISH
BEGIN:VEVENT
UID:20260420T155006UTC-5496adNSBw@https://ischiaeventi.com/
DTSTAMP:20260420T155006Z
DESCRIPTION:20.00 XMAS DRAGODI evento settimanale del calendario dedicato a
 gli appassionati di giochi da tavolo e giochi di ruolo nel Salone di San M
 ichele in Monterone Forio https://ischiaeventi.com/en/events/cultura/debat
 es-and-cultural-meetings/event/34121-forio-merryland-xmas-dragodi
DTSTART:20241226T190000Z
DTEND:20241226T220000Z
LOCATION:Comune di Forio (Piazza Municipio\, 1\, 80075 Forio NA\, Italia)
SUMMARY:Forio MerryLand:  XMAS DRAGODI 
URL:https://ischiaeventi.com/en/events/cultura/debates-and-cultural-meeting
 s/event/34121-forio-merryland-xmas-dragodi
END:VEVENT
END:VCALENDAR
