BEGIN:VCALENDAR
VERSION:2.0
PRODID:-//https://ischiaeventi.com///NONSGML kigkonsult.se iCalcreator 2.10.15//
METHOD:PUBLISH
BEGIN:VEVENT
UID:20260420T143018UTC-5104jtghIR@https://ischiaeventi.com/
DTSTAMP:20260420T143018Z
DESCRIPTION:12.00 BRUNCH DI FINE ANNO tra musica e delizie nostrane nel Cor
 so di Panza&nbsp\; https://ischiaeventi.com/en/events/cultura/debates-and-
 cultural-meetings/event/34122-forio-merryland-brunch-di-fine-anno
DTSTART:20241228T110000Z
DTEND:20241228T130000Z
LOCATION:Comune di Forio (Piazza Municipio\, 1\, 80075 Forio NA\, Italia)
SUMMARY:Forio MerryLand: BRUNCH DI FINE ANNO
URL:https://ischiaeventi.com/en/events/cultura/debates-and-cultural-meeting
 s/event/34122-forio-merryland-brunch-di-fine-anno
END:VEVENT
END:VCALENDAR
