BEGIN:VCALENDAR
VERSION:2.0
PRODID:-//https://ischiaeventi.com///NONSGML kigkonsult.se iCalcreator 2.10.15//
METHOD:PUBLISH
BEGIN:VEVENT
UID:20260420T142943UTC-4197gkLMtu@https://ischiaeventi.com/
DTSTAMP:20260420T142943Z
DESCRIPTION:L’EPIFANIA A PANZA grande finale in festa con giochi\, musica e
  delizie per i più piccini per le strade di Panza https://ischiaeventi.com
 /en/events/cultura/debates-and-cultural-meetings/event/34332-forio-merryla
 nd-lepifania-a-panza
DTSTART:20250106T143000Z
DTEND:20250106T165900Z
LOCATION:Comune di Forio (Piazza Municipio\, 1\, 80075 Forio NA\, Italia)
SUMMARY:Forio MerryLand: L’EPIFANIA A PANZA
URL:https://ischiaeventi.com/en/events/cultura/debates-and-cultural-meeting
 s/event/34332-forio-merryland-lepifania-a-panza
END:VEVENT
END:VCALENDAR
