BEGIN:VCALENDAR
VERSION:2.0
PRODID:-//https://ischiaeventi.com///NONSGML kigkonsult.se iCalcreator 2.10.15//
METHOD:PUBLISH
BEGIN:VEVENT
UID:20260420T155006UTC-5949JbsPaz@https://ischiaeventi.com/
DTSTAMP:20260420T155006Z
DESCRIPTION:Fantasilandia e il Mondo di Alice coinvolgeranno i bambini in l
 aboratori motori e di pittura creando giochi di colore e movimento.\nInaug
 urazione dei mercatini di Natale\n https://ischiaeventi.com/en/events/cult
 ura/debates-and-cultural-meetings/event/36371-laboratorio-arte-in-moviment
 o
DTSTART:20241123T143000Z
DTEND:20241123T163000Z
LOCATION:Comune di Ischia (Via Iasolino\, 1\, 80077 Ischia NA\, Italia)
SUMMARY:Laboratorio 'Arte in movimento'
URL:https://ischiaeventi.com/en/events/cultura/debates-and-cultural-meeting
 s/event/36371-laboratorio-arte-in-movimento
END:VEVENT
END:VCALENDAR
