BEGIN:VCALENDAR
VERSION:2.0
PRODID:-//https://ischiaeventi.com///NONSGML kigkonsult.se iCalcreator 2.10.15//
METHOD:PUBLISH
BEGIN:VEVENT
UID:20260422T105253UTC-5089cUNa4u@https://ischiaeventi.com/
DTSTAMP:20260422T105253Z
DESCRIPTION:Laboratorio degli Elfi a cura dell'associazione A Voce d'è Cria
 tur https://ischiaeventi.com/en/events/cultura/debates-and-cultural-meetin
 gs/event/36883-mare-copp-mas-laboratorio-degli-elfi
DTSTART:20241211T140000Z
DTEND:20241211T170000Z
LOCATION:Centro Polifunzionale di Fontana (Piazza Arturo Trofa - Serrara)
SUMMARY:Mare Copp Mas: Laboratorio degli elfi
URL:https://ischiaeventi.com/en/events/cultura/debates-and-cultural-meeting
 s/event/36883-mare-copp-mas-laboratorio-degli-elfi
END:VEVENT
END:VCALENDAR
