BEGIN:VCALENDAR
VERSION:2.0
PRODID:-//https://ischiaeventi.com///NONSGML kigkonsult.se iCalcreator 2.10.15//
METHOD:PUBLISH
BEGIN:VEVENT
UID:20260420T155842UTC-7460G00Hxi@https://ischiaeventi.com/
DTSTAMP:20260420T155842Z
DESCRIPTION:Presepi in Cammino percorsi presepiali\, artigianali e artistic
 i\, chiese e boutique https://ischiaeventi.com/en/events/cultura/debates-a
 nd-cultural-meetings/event/38233-lacco-ameno-in-canti-di-natale-presepi-in
 -cammino
DTSTART;VALUE=DATE:20250106
LOCATION:Lacco Ameno (Piazza Santa Restituta\, 80076 Lacco Ameno NA\, Itali
 a)
SUMMARY:Lacco Ameno In-canti di Natale: presepi in cammino
URL:https://ischiaeventi.com/en/events/cultura/debates-and-cultural-meeting
 s/event/38233-lacco-ameno-in-canti-di-natale-presepi-in-cammino
END:VEVENT
END:VCALENDAR
