BEGIN:VCALENDAR
VERSION:2.0
PRODID:-//https://ischiaeventi.com///NONSGML kigkonsult.se iCalcreator 2.10.15//
METHOD:PUBLISH
BEGIN:VEVENT
UID:20260420T142527UTC-1340sL1EXC@https://ischiaeventi.com/
DTSTAMP:20260420T142527Z
DESCRIPTION:Oltre 30 aziende tra alberghi\, ristoranti e altri settori sono
  pronte a offrirti tantissime opportunità lavorative. Un’opportunità unica
  per incontrare direttamente i recruiter e partecipare ai colloqui!&nbsp\;
  https://ischiaeventi.com/en/events/cultura/debates-and-cultural-meetings/
 event/39444-jobday-a-ischia
DTSTART:20241213T080000Z
DTEND:20241213T125900Z
LOCATION:Palazzetto dello Sport Ischia (Via Fondo Bosso\, 8\, 80077 Ischia 
 NA\, Italia)
SUMMARY:Jobday a Ischia
URL:https://ischiaeventi.com/en/events/cultura/debates-and-cultural-meeting
 s/event/39444-jobday-a-ischia
END:VEVENT
END:VCALENDAR
