BEGIN:VCALENDAR
VERSION:2.0
PRODID:-//https://ischiaeventi.com///NONSGML kigkonsult.se iCalcreator 2.10.15//
METHOD:PUBLISH
BEGIN:VEVENT
UID:20260420T142528UTC-7523VvVzIL@https://ischiaeventi.com/
DTSTAMP:20260420T142528Z
DESCRIPTION:Gourmet in movimento\, festeggiamenti in onore di San Ciro http
 s://ischiaeventi.com/en/events/cultura/debates-and-cultural-meetings/event
 /41546-a-marenna-e-san-ciro
DTSTART:20250126T183000Z
DTEND:20250126T203000Z
LOCATION:Piazza del Ciglio  (Via Ciglio\, Città Metropolitana di Napoli\, I
 talia)
SUMMARY:A' Marenna 'e San Ciro
URL:https://ischiaeventi.com/en/events/cultura/debates-and-cultural-meeting
 s/event/41546-a-marenna-e-san-ciro
END:VEVENT
END:VCALENDAR
