BEGIN:VCALENDAR
VERSION:2.0
PRODID:-//https://ischiaeventi.com///NONSGML kigkonsult.se iCalcreator 2.10.15//
METHOD:PUBLISH
BEGIN:VEVENT
UID:20260420T154952UTC-1623L4ua4K@https://ischiaeventi.com/
DTSTAMP:20260420T154952Z
DESCRIPTION:Piano paesaggistico dell'isola di Ischia https://ischiaeventi.c
 om/en/events/cultura/debates-and-cultural-meetings/event/48914-paesaggi-in
 -formazione
DTSTART:20250327T093000Z
DTEND:20250327T113000Z
LOCATION:Museo Diocesano di Ischia (Via Seminario\, 20\, 80077 Ischia NA\, 
 Italia)
SUMMARY:Paesaggi in-formazione
URL:https://ischiaeventi.com/en/events/cultura/debates-and-cultural-meeting
 s/event/48914-paesaggi-in-formazione
END:VEVENT
END:VCALENDAR
