BEGIN:VCALENDAR
VERSION:2.0
PRODID:-//https://ischiaeventi.com///NONSGML kigkonsult.se iCalcreator 2.10.15//
METHOD:PUBLISH
BEGIN:VEVENT
UID:20260420T154819UTC-2201jDAr6A@https://ischiaeventi.com/
DTSTAMP:20260420T154819Z
DESCRIPTION:Mostra Veranica Acunto\nIngresso Libero\n&nbsp\; https://ischia
 eventi.com/en/events/cultura/debates-and-cultural-meetings/event/68464-mos
 tra-veronica-acunto
DTSTART:20250424T173000Z
DTEND:20250424T190000Z
LOCATION:Villa Arbusto museum (Corso Angelo Rizzoli\, 194\, 80076 Lacco Ame
 no NA\, Italia)
SUMMARY:Mostra Veronica Acunto
URL:https://ischiaeventi.com/en/events/cultura/debates-and-cultural-meeting
 s/event/68464-mostra-veronica-acunto
END:VEVENT
END:VCALENDAR
