BEGIN:VCALENDAR
VERSION:2.0
PRODID:-//https://ischiaeventi.com///NONSGML kigkonsult.se iCalcreator 2.10.15//
METHOD:PUBLISH
BEGIN:VEVENT
UID:20260420T142510UTC-6077Oc8JNG@https://ischiaeventi.com/
DTSTAMP:20260420T142510Z
DESCRIPTION:Mostra Veranica Acunto\nIngresso Libero\n&nbsp\; https://ischia
 eventi.com/en/events/cultura/debates-and-cultural-meetings/event/68486-mos
 tra-veronica-acunto
DTSTART:20250516T173000Z
DTEND:20250516T190000Z
LOCATION:Villa Arbusto museum (Corso Angelo Rizzoli\, 194\, 80076 Lacco Ame
 no NA\, Italia)
SUMMARY:Mostra Veronica Acunto
URL:https://ischiaeventi.com/en/events/cultura/debates-and-cultural-meeting
 s/event/68486-mostra-veronica-acunto
END:VEVENT
END:VCALENDAR
