BEGIN:VCALENDAR
VERSION:2.0
PRODID:-//https://ischiaeventi.com///NONSGML kigkonsult.se iCalcreator 2.10.15//
METHOD:PUBLISH
BEGIN:VEVENT
UID:20260420T160021UTC-3717bvuffs@https://ischiaeventi.com/
DTSTAMP:20260420T160021Z
DESCRIPTION:Spettacolo esilarante per bambini e famiglie con il clown dei r
 ecord!\n&nbsp\;\n&nbsp\; https://ischiaeventi.com/en/events/cultura/debate
 s-and-cultural-meetings/event/81010-festeggiamenti-in-onore-di-san-vito-ot
 to-il-bassotto
DTSTART:20250617T160000Z
DTEND:20250617T183000Z
LOCATION:Porto di Forio (Porto di Forio\, 80075 Forio NA\, Italia)
SUMMARY:Festeggiamenti in onore di San Vito: Otto il Bassotto
URL:https://ischiaeventi.com/en/events/cultura/debates-and-cultural-meeting
 s/event/81010-festeggiamenti-in-onore-di-san-vito-otto-il-bassotto
END:VEVENT
END:VCALENDAR
