BEGIN:VCALENDAR
VERSION:2.0
PRODID:-//https://ischiaeventi.com///NONSGML kigkonsult.se iCalcreator 2.10.15//
METHOD:PUBLISH
BEGIN:VEVENT
UID:20260423T143156UTC-1802UXE2Kc@https://ischiaeventi.com/
DTSTAMP:20260423T143156Z
DESCRIPTION:Solemn Penitential Procession with the venerated image of Our L
 ady of Sorrows through the streets of Forio.The procession will return via
  Casa di Maio Street. https://ischiaeventi.com/en/events/event/249730-sole
 mn-seven-day-devotion-in-honor-of-our-lady-of-sorrows
DTSTART:20260327T100000Z
DTEND:20260327T123000Z
LOCATION:Forio d’Ischia (80075 Forio NA\, Italia)
SUMMARY:Solemn Seven-Day Devotion in Honor of Our Lady of Sorrows
URL:https://ischiaeventi.com/en/events/event/249730-solemn-seven-day-devoti
 on-in-honor-of-our-lady-of-sorrows
END:VEVENT
END:VCALENDAR
