BEGIN:VCALENDAR
VERSION:2.0
PRODID:-//https://ischiaeventi.com///NONSGML kigkonsult.se iCalcreator 2.10.15//
METHOD:PUBLISH
BEGIN:VEVENT
UID:20260419T123107UTC-54730uliut@https://ischiaeventi.com/
DTSTAMP:20260419T123107Z
DESCRIPTION:Eduardo De Crescenzo: essenze jazz https://ischiaeventi.com/en/
 events/event/30268-eduardo-de-crescenzo-essenze-jazz
DTSTART:20240623T193000Z
DTEND:20240623T213000Z
LOCATION:Piazzale Anna De Felice  (80074 Casamicciola Terme NA\, Italia)
SUMMARY:Eduardo De Crescenzo: essenze jazz
URL:https://ischiaeventi.com/en/events/event/30268-eduardo-de-crescenzo-ess
 enze-jazz
END:VEVENT
END:VCALENDAR
