BEGIN:VCALENDAR
VERSION:2.0
PRODID:-//https://ischiaeventi.com///NONSGML kigkonsult.se iCalcreator 2.10.15//
METHOD:PUBLISH
BEGIN:VEVENT
UID:20260425T001354UTC-37208lGUUm@https://ischiaeventi.com/
DTSTAMP:20260425T001354Z
DESCRIPTION:CONCERTO IN MEMORIA DEL MAESTRO IMPAGLIAZZO https://ischiaevent
 i.com/en/events/intrattenimento/theatre/event/124249-estate-forio-2025-con
 certo-in-memoria-del-maestro-impagliazzo
DTSTART:20250821T183000Z
DTEND:20250821T215900Z
LOCATION:Panza (Piazza San Leonardo - 80075 Panza Forio)
SUMMARY:Estate Forio 2025: CONCERTO IN MEMORIA DEL MAESTRO IMPAGLIAZZO
URL:https://ischiaeventi.com/en/events/intrattenimento/theatre/event/124249
 -estate-forio-2025-concerto-in-memoria-del-maestro-impagliazzo
END:VEVENT
END:VCALENDAR
