BEGIN:VCALENDAR
VERSION:2.0
PRODID:-//https://ischiaeventi.com///NONSGML kigkonsult.se iCalcreator 2.10.15//
METHOD:PUBLISH
BEGIN:VEVENT
UID:20260425T003215UTC-1294eUSsgw@https://ischiaeventi.com/
DTSTAMP:20260425T003215Z
DESCRIPTION:Conference organized by Marianna Polverino https://ischiaeventi
 .com/en/events/intrattenimento/theatre/event/249180-christmas-at-the-anton
 iana-conference-organized-by-marianna-polverino
DTSTART:20251209T080000Z
DTEND:20251209T110000Z
LOCATION:Biblioteca Antoniana (Rampe S.Antonio\, 5\, 80077 - Ischia)
SUMMARY:Christmas at the Antoniana: Conference organized by Marianna Polver
 ino
URL:https://ischiaeventi.com/en/events/intrattenimento/theatre/event/249180
 -christmas-at-the-antoniana-conference-organized-by-marianna-polverino
END:VEVENT
END:VCALENDAR
