BEGIN:VCALENDAR
VERSION:2.0
PRODID:-//https://ischiaeventi.com///NONSGML kigkonsult.se iCalcreator 2.10.15//
METHOD:PUBLISH
BEGIN:VEVENT
UID:20260425T003213UTC-1576tCfzt2@https://ischiaeventi.com/
DTSTAMP:20260425T003213Z
DESCRIPTION:THE EVOLUTION OF FAMILY LAW: THE BEST INTERESTS OF THE CHILDIns
 titutional greetings:\n\nCaterina Mazzella\, President of Parco Culturale 
 Ischia\nVincenzo Ferrandino\, Mayor of Ischia\nLucia Annicelli\, Director 
 of the Antoniana Municipal Library\n\nIntroduction:\n\nAttorney Anna Itri\
 , Auditor of Parco Culturale Ischia\n\nSpeaker:\n\nAttorney Rosaria Mollo 
 (expert in family and juvenile law)\n https://ischiaeventi.com/en/events/i
 ntrattenimento/theatre/event/249712-the-evolution-of-family-law-the-best-i
 nterests-of-the-child
DTSTART:20260326T170000Z
DTEND:20260326T190000Z
LOCATION:Biblioteca Antoniana (Rampe S.Antonio\, 5\, 80077 - Ischia)
SUMMARY:THE EVOLUTION OF FAMILY LAW: THE BEST INTERESTS OF THE CHILD
URL:https://ischiaeventi.com/en/events/intrattenimento/theatre/event/249712
 -the-evolution-of-family-law-the-best-interests-of-the-child
END:VEVENT
END:VCALENDAR
