BEGIN:VCALENDAR
VERSION:2.0
PRODID:-//https://ischiaeventi.com///NONSGML kigkonsult.se iCalcreator 2.10.15//
METHOD:PUBLISH
BEGIN:VEVENT
UID:20260424T224832UTC-22268vhgiz@https://ischiaeventi.com/
DTSTAMP:20260424T224832Z
DESCRIPTION:Concerto Sfera Ebbasta. Arena del negombo\, 19 agosto https://i
 schiaeventi.com/en/events/intrattenimento/theatre/event/31214-sfera-ebbast
 a-in-concerto
DTSTART:20240819T193000Z
DTEND:20240819T215900Z
LOCATION:Parco Termale Negombo (Baia di S. Montano\, - 80076 Lacco Ameno NA
 \, Italia)
SUMMARY:Sfera Ebbasta in concerto
URL:https://ischiaeventi.com/en/events/intrattenimento/theatre/event/31214-
 sfera-ebbasta-in-concerto
END:VEVENT
END:VCALENDAR
