BEGIN:VCALENDAR
VERSION:2.0
PRODID:-//https://ischiaeventi.com///NONSGML kigkonsult.se iCalcreator 2.10.15//
METHOD:PUBLISH
BEGIN:VEVENT
UID:20260425T015815UTC-9143vmn5vM@https://ischiaeventi.com/
DTSTAMP:20260425T015815Z
DESCRIPTION:Summer Time Serrara: DR WHY E MUSICNIGHT CON SIMONE E ANDY DJ h
 ttps://ischiaeventi.com/en/events/intrattenimento/theatre/event/31238-summ
 er-time-serrara-dr-why-e-musicnight-con-simone-e-andy-dj
DTSTART:20240728T190000Z
DTEND:20240728T215200Z
LOCATION:Succhivo (Provinciale Succhivo Sant'Angelo\, 21-27\, 80070 Sant'An
 gelo NA\, Italy)
SUMMARY:Summer Time Serrara: DR WHY E MUSICNIGHT CON SIMONE E ANDY DJ
URL:https://ischiaeventi.com/en/events/intrattenimento/theatre/event/31238-
 summer-time-serrara-dr-why-e-musicnight-con-simone-e-andy-dj
END:VEVENT
END:VCALENDAR
